Package: fcScan Version: 1.20.0 Command: rm -rf fcScan.buildbin-libdir && mkdir fcScan.buildbin-libdir && /Users/biocbuild/BBS/utils/build-universal.sh fcScan_1.20.0.tar.gz /Library/Frameworks/R.framework/Resources/bin/R fcScan.buildbin-libdir StartedAt: 2025-01-31 12:47:44 -0500 (Fri, 31 Jan 2025) EndedAt: 2025-01-31 12:49:06 -0500 (Fri, 31 Jan 2025) EllapsedTime: 81.7 seconds RetCode: 0 Status: OK PackageFile: fcScan_1.20.0.tgz PackageFileSize: 271.9 KiB