Package: fcScan Version: 1.20.0 Command: /Library/Frameworks/R.framework/Resources/bin/R CMD INSTALL fcScan StartedAt: 2025-01-30 16:07:20 -0500 (Thu, 30 Jan 2025) EndedAt: 2025-01-30 16:08:05 -0500 (Thu, 30 Jan 2025) EllapsedTime: 44.8 seconds RetCode: 0 Status: OK