Package: fcScan Version: 1.20.0 Command: /Library/Frameworks/R.framework/Resources/bin/R CMD check --install=check:fcScan.install-out.txt --library=/Library/Frameworks/R.framework/Resources/library --no-vignettes --timings fcScan_1.20.0.tar.gz StartedAt: 2025-01-31 19:14:11 -0500 (Fri, 31 Jan 2025) EndedAt: 2025-01-31 19:19:16 -0500 (Fri, 31 Jan 2025) EllapsedTime: 305.0 seconds RetCode: 0 Status: OK CheckDir: fcScan.Rcheck Warnings: 0