Package: fastseg Version: 1.52.0 Command: /home/biocbuild/R/R/bin/R CMD check --install=check:fastseg.install-out.txt --library=/home/biocbuild/R/R/site-library --no-vignettes --timings fastseg_1.52.0.tar.gz StartedAt: 2025-02-04 06:58:10 -0000 (Tue, 04 Feb 2025) EndedAt: 2025-02-04 06:59:40 -0000 (Tue, 04 Feb 2025) EllapsedTime: 90.1 seconds RetCode: 0 Status: OK CheckDir: fastseg.Rcheck Warnings: 0