Package: fastseg Version: 1.52.0 Command: /home/biocbuild/R/R/bin/R CMD build --keep-empty-dirs --no-resave-data fastseg StartedAt: 2025-01-30 23:34:22 -0000 (Thu, 30 Jan 2025) EndedAt: 2025-01-30 23:35:17 -0000 (Thu, 30 Jan 2025) EllapsedTime: 55.1 seconds RetCode: 0 Status: OK PackageFile: fastseg_1.52.0.tar.gz PackageFileSize: 544.9 KiB