Package: fastseg Version: 1.52.0 Command: F:\biocbuild\bbs-3.20-bioc\R\bin\R.exe CMD check --no-multiarch --install=check:fastseg.install-out.txt --library=F:\biocbuild\bbs-3.20-bioc\R\library --no-vignettes --timings fastseg_1.52.0.tar.gz StartedAt: 2025-04-01 01:30:58 -0400 (Tue, 01 Apr 2025) EndedAt: 2025-04-01 01:32:34 -0400 (Tue, 01 Apr 2025) EllapsedTime: 95.2 seconds RetCode: 0 Status: OK CheckDir: fastseg.Rcheck Warnings: 0