Package: fastseg Version: 1.52.0 Command: rm -rf fastseg.buildbin-libdir && mkdir fastseg.buildbin-libdir && /Users/biocbuild/BBS/utils/build-universal.sh fastseg_1.52.0.tar.gz /Library/Frameworks/R.framework/Resources/bin/R fastseg.buildbin-libdir StartedAt: 2025-01-28 13:08:06 -0500 (Tue, 28 Jan 2025) EndedAt: 2025-01-28 13:08:41 -0500 (Tue, 28 Jan 2025) EllapsedTime: 34.5 seconds RetCode: 0 Status: OK PackageFile: fastseg_1.52.0.tgz PackageFileSize: 764.9 KiB