Package: fastseg Version: 1.52.0 Command: /Library/Frameworks/R.framework/Resources/bin/R CMD check --install=check:fastseg.install-out.txt --library=/Library/Frameworks/R.framework/Resources/library --no-vignettes --timings fastseg_1.52.0.tar.gz StartedAt: 2025-03-04 19:19:04 -0500 (Tue, 04 Mar 2025) EndedAt: 2025-03-04 19:20:38 -0500 (Tue, 04 Mar 2025) EllapsedTime: 94.2 seconds RetCode: 0 Status: OK CheckDir: fastseg.Rcheck Warnings: 0