Package: fastreeR Version: 1.10.0 Command: F:\biocbuild\bbs-3.20-bioc\R\bin\R.exe CMD check --no-multiarch --install=check:fastreeR.install-out.txt --library=F:\biocbuild\bbs-3.20-bioc\R\library --no-vignettes --timings fastreeR_1.10.0.tar.gz StartedAt: 2025-04-01 01:30:22 -0400 (Tue, 01 Apr 2025) EndedAt: 2025-04-01 01:31:16 -0400 (Tue, 01 Apr 2025) EllapsedTime: 54.8 seconds RetCode: 0 Status: OK CheckDir: fastreeR.Rcheck Warnings: 0