Package: fastreeR Version: 1.10.0 Command: chmod a+r fastreeR -R && F:\biocbuild\bbs-3.20-bioc\R\bin\R.exe CMD build --keep-empty-dirs --no-resave-data fastreeR StartedAt: 2025-01-27 18:52:12 -0500 (Mon, 27 Jan 2025) EndedAt: 2025-01-27 18:54:52 -0500 (Mon, 27 Jan 2025) EllapsedTime: 159.4 seconds RetCode: 0 Status: OK PackageFile: fastreeR_1.10.0.tar.gz PackageFileSize: 1.975 MiB