Package: fastreeR Version: 1.10.0 Command: rm -rf fastreeR.buildbin-libdir && mkdir fastreeR.buildbin-libdir && /Users/biocbuild/BBS/utils/build-universal.sh fastreeR_1.10.0.tar.gz /Library/Frameworks/R.framework/Resources/bin/R fastreeR.buildbin-libdir StartedAt: 2025-04-01 11:52:21 -0400 (Tue, 01 Apr 2025) EndedAt: 2025-04-01 11:52:29 -0400 (Tue, 01 Apr 2025) EllapsedTime: 7.9 seconds RetCode: 0 Status: OK PackageFile: fastreeR_1.10.0.tgz PackageFileSize: 2.106 MiB