Package: fastreeR Version: 1.10.0 Command: /Library/Frameworks/R.framework/Resources/bin/R CMD INSTALL fastreeR StartedAt: 2024-11-19 15:15:17 -0500 (Tue, 19 Nov 2024) EndedAt: 2024-11-19 15:15:23 -0500 (Tue, 19 Nov 2024) EllapsedTime: 5.4 seconds RetCode: 0 Status: OK