Package: famat Version: 1.16.0 Command: F:\biocbuild\bbs-3.20-bioc\R\bin\R.exe CMD check --no-multiarch --install=check:famat.install-out.txt --library=F:\biocbuild\bbs-3.20-bioc\R\library --no-vignettes --timings famat_1.16.0.tar.gz StartedAt: 2025-04-01 01:29:41 -0400 (Tue, 01 Apr 2025) EndedAt: 2025-04-01 01:36:51 -0400 (Tue, 01 Apr 2025) EllapsedTime: 429.5 seconds RetCode: 0 Status: OK CheckDir: famat.Rcheck Warnings: 0