Package: famat Version: 1.16.0 Command: rm -rf famat.buildbin-libdir && mkdir famat.buildbin-libdir && F:\biocbuild\bbs-3.20-bioc\R\bin\R.exe CMD INSTALL --build --library=famat.buildbin-libdir famat_1.16.0.tar.gz StartedAt: 2025-04-01 08:11:14 -0400 (Tue, 01 Apr 2025) EndedAt: 2025-04-01 08:12:12 -0400 (Tue, 01 Apr 2025) EllapsedTime: 57.7 seconds RetCode: 0 Status: OK PackageFile: famat_1.16.0.zip PackageFileSize: 3.645 MiB