Package: factR Version: 1.8.0 Command: F:\biocbuild\bbs-3.20-bioc\R\bin\R.exe CMD INSTALL factR StartedAt: 2025-03-31 16:04:04 -0400 (Mon, 31 Mar 2025) EndedAt: 2025-03-31 16:04:27 -0400 (Mon, 31 Mar 2025) EllapsedTime: 23.5 seconds RetCode: 0 Status: OK