Package: factR Version: 1.8.0 Command: chmod a+r factR -R && F:\biocbuild\bbs-3.20-bioc\R\bin\R.exe CMD build --keep-empty-dirs --no-resave-data factR StartedAt: 2025-03-31 18:52:24 -0400 (Mon, 31 Mar 2025) EndedAt: 2025-03-31 18:56:09 -0400 (Mon, 31 Mar 2025) EllapsedTime: 224.8 seconds RetCode: 0 Status: OK PackageFile: factR_1.8.0.tar.gz PackageFileSize: 1.379 MiB