Package: factR Version: 1.8.0 Command: /home/biocbuild/bbs-3.20-bioc/R/bin/R CMD INSTALL factR StartedAt: 2025-01-27 16:12:15 -0500 (Mon, 27 Jan 2025) EndedAt: 2025-01-27 16:12:26 -0500 (Mon, 27 Jan 2025) EllapsedTime: 10.2 seconds RetCode: 0 Status: OK