Package: fCI Version: 1.36.0 Command: /Library/Frameworks/R.framework/Resources/bin/R CMD INSTALL fCI StartedAt: 2025-01-27 15:58:00 -0500 (Mon, 27 Jan 2025) EndedAt: 2025-01-27 15:58:12 -0500 (Mon, 27 Jan 2025) EllapsedTime: 12.9 seconds RetCode: 0 Status: OK