Package: fCI Version: 1.36.0 Command: /Library/Frameworks/R.framework/Resources/bin/R CMD build --keep-empty-dirs --no-resave-data fCI StartedAt: 2025-02-03 18:55:20 -0500 (Mon, 03 Feb 2025) EndedAt: 2025-02-03 18:56:50 -0500 (Mon, 03 Feb 2025) EllapsedTime: 89.8 seconds RetCode: 0 Status: OK PackageFile: fCI_1.36.0.tar.gz PackageFileSize: 1.32 MiB