Package: fCI Version: 1.36.0 Command: /Library/Frameworks/R.framework/Resources/bin/R CMD build --keep-empty-dirs --no-resave-data fCI StartedAt: 2025-01-27 23:34:20 -0500 (Mon, 27 Jan 2025) EndedAt: 2025-01-27 23:34:59 -0500 (Mon, 27 Jan 2025) EllapsedTime: 39.4 seconds RetCode: 0 Status: OK PackageFile: fCI_1.36.0.tar.gz PackageFileSize: 1.321 MiB