Package: fCCAC Version: 1.31.0 Command: F:\biocbuild\bbs-3.20-bioc\R\bin\R.exe CMD check --no-multiarch --install=check:fCCAC.install-out.txt --library=F:\biocbuild\bbs-3.20-bioc\R\library --no-vignettes --timings fCCAC_1.31.0.tar.gz StartedAt: 2024-06-10 02:39:11 -0400 (Mon, 10 Jun 2024) EndedAt: 2024-06-10 02:45:36 -0400 (Mon, 10 Jun 2024) EllapsedTime: 385.4 seconds RetCode: 0 Status: OK CheckDir: fCCAC.Rcheck Warnings: 0