Package: fCCAC Version: 1.32.0 Command: /Library/Frameworks/R.framework/Resources/bin/R CMD build --keep-empty-dirs --no-resave-data fCCAC StartedAt: 2025-03-31 18:41:53 -0400 (Mon, 31 Mar 2025) EndedAt: 2025-03-31 18:44:19 -0400 (Mon, 31 Mar 2025) EllapsedTime: 146.0 seconds RetCode: 0 Status: OK PackageFile: fCCAC_1.32.0.tar.gz PackageFileSize: 3.498 MiB