Package: fCCAC Version: 1.32.0 Command: /Library/Frameworks/R.framework/Resources/bin/R CMD check --install=check:fCCAC.install-out.txt --library=/Library/Frameworks/R.framework/Resources/library --no-vignettes --timings fCCAC_1.32.0.tar.gz StartedAt: 2025-04-01 19:05:30 -0400 (Tue, 01 Apr 2025) EndedAt: 2025-04-01 19:10:30 -0400 (Tue, 01 Apr 2025) EllapsedTime: 299.6 seconds RetCode: 0 Status: OK CheckDir: fCCAC.Rcheck Warnings: 0