Package: extraChIPs Version: 1.10.0 Command: /home/biocbuild/R/R/bin/R CMD INSTALL extraChIPs StartedAt: 2025-02-03 21:00:45 -0000 (Mon, 03 Feb 2025) EndedAt: 2025-02-03 21:01:55 -0000 (Mon, 03 Feb 2025) EllapsedTime: 69.9 seconds RetCode: 0 Status: OK