Package: extraChIPs Version: 1.10.0 Command: F:\biocbuild\bbs-3.20-bioc\R\bin\R.exe CMD INSTALL extraChIPs StartedAt: 2025-01-27 16:26:32 -0500 (Mon, 27 Jan 2025) EndedAt: 2025-01-27 16:28:11 -0500 (Mon, 27 Jan 2025) EllapsedTime: 98.9 seconds RetCode: 0 Status: OK