Package: extraChIPs Version: 1.10.0 Command: chmod a+r extraChIPs -R && F:\biocbuild\bbs-3.20-bioc\R\bin\R.exe CMD build --keep-empty-dirs --no-resave-data extraChIPs StartedAt: 2025-03-31 18:52:05 -0400 (Mon, 31 Mar 2025) EndedAt: 2025-03-31 18:54:55 -0400 (Mon, 31 Mar 2025) EllapsedTime: 170.9 seconds RetCode: 0 Status: OK PackageFile: extraChIPs_1.10.0.tar.gz PackageFileSize: 3.366 MiB