Package: extraChIPs Version: 1.10.0 Command: /home/biocbuild/bbs-3.20-bioc/R/bin/R CMD build --keep-empty-dirs --no-resave-data --md5 extraChIPs StartedAt: 2025-03-31 17:14:18 -0400 (Mon, 31 Mar 2025) EndedAt: 2025-03-31 17:16:07 -0400 (Mon, 31 Mar 2025) EllapsedTime: 109.2 seconds RetCode: 0 Status: OK PackageFile: extraChIPs_1.10.0.tar.gz PackageFileSize: 3.732 MiB