Package: extraChIPs Version: 1.10.0 Command: /Library/Frameworks/R.framework/Resources/bin/R CMD INSTALL extraChIPs StartedAt: 2025-02-03 16:10:37 -0500 (Mon, 03 Feb 2025) EndedAt: 2025-02-03 16:12:39 -0500 (Mon, 03 Feb 2025) EllapsedTime: 122.4 seconds RetCode: 0 Status: OK