Package: extraChIPs Version: 1.10.0 Command: rm -rf extraChIPs.buildbin-libdir && mkdir extraChIPs.buildbin-libdir && /Users/biocbuild/BBS/utils/build-universal.sh extraChIPs_1.10.0.tar.gz /Library/Frameworks/R.framework/Resources/bin/R extraChIPs.buildbin-libdir StartedAt: 2025-02-04 12:55:58 -0500 (Tue, 04 Feb 2025) EndedAt: 2025-02-04 12:58:06 -0500 (Tue, 04 Feb 2025) EllapsedTime: 127.8 seconds RetCode: 0 Status: OK PackageFile: extraChIPs_1.10.0.tgz PackageFileSize: 2.725 MiB