Package: evaluomeR Version: 1.22.0 Command: /home/biocbuild/R/R/bin/R CMD INSTALL evaluomeR StartedAt: 2025-03-31 21:01:20 -0000 (Mon, 31 Mar 2025) EndedAt: 2025-03-31 21:02:10 -0000 (Mon, 31 Mar 2025) EllapsedTime: 49.3 seconds RetCode: 0 Status: OK