Package: evaluomeR Version: 1.22.0 Command: F:\biocbuild\bbs-3.20-bioc\R\bin\R.exe CMD INSTALL evaluomeR StartedAt: 2025-03-31 16:50:41 -0400 (Mon, 31 Mar 2025) EndedAt: 2025-03-31 16:51:33 -0400 (Mon, 31 Mar 2025) EllapsedTime: 51.8 seconds RetCode: 0 Status: OK