Package: evaluomeR Version: 1.22.0 Command: F:\biocbuild\bbs-3.20-bioc\R\bin\R.exe CMD check --no-multiarch --install=check:evaluomeR.install-out.txt --library=F:\biocbuild\bbs-3.20-bioc\R\library --no-vignettes --timings evaluomeR_1.22.0.tar.gz StartedAt: 2025-04-01 01:26:29 -0400 (Tue, 01 Apr 2025) EndedAt: 2025-04-01 01:32:44 -0400 (Tue, 01 Apr 2025) EllapsedTime: 375.0 seconds RetCode: 0 Status: WARNINGS CheckDir: evaluomeR.Rcheck Warnings: 3