Package: evaluomeR Version: 1.22.0 Command: rm -rf evaluomeR.buildbin-libdir && mkdir evaluomeR.buildbin-libdir && F:\biocbuild\bbs-3.20-bioc\R\bin\R.exe CMD INSTALL --build --library=evaluomeR.buildbin-libdir evaluomeR_1.22.0.tar.gz StartedAt: 2025-01-28 08:07:48 -0500 (Tue, 28 Jan 2025) EndedAt: 2025-01-28 08:08:40 -0500 (Tue, 28 Jan 2025) EllapsedTime: 51.4 seconds RetCode: 0 Status: OK PackageFile: evaluomeR_1.22.0.zip PackageFileSize: 581.6 KiB