Package: evaluomeR Version: 1.22.0 Command: /Library/Frameworks/R.framework/Resources/bin/R CMD check --install=check:evaluomeR.install-out.txt --library=/Library/Frameworks/R.framework/Resources/library --no-vignettes --timings evaluomeR_1.22.0.tar.gz StartedAt: 2025-01-28 18:55:07 -0500 (Tue, 28 Jan 2025) EndedAt: 2025-01-28 19:00:34 -0500 (Tue, 28 Jan 2025) EllapsedTime: 326.8 seconds RetCode: 0 Status: WARNINGS CheckDir: evaluomeR.Rcheck Warnings: 3