Package: evaluomeR Version: 1.22.0 Command: /Library/Frameworks/R.framework/Resources/bin/R CMD build --keep-empty-dirs --no-resave-data evaluomeR StartedAt: 2025-01-27 23:28:21 -0500 (Mon, 27 Jan 2025) EndedAt: 2025-01-27 23:29:39 -0500 (Mon, 27 Jan 2025) EllapsedTime: 77.9 seconds RetCode: 0 Status: OK PackageFile: evaluomeR_1.22.0.tar.gz PackageFileSize: 1.044 MiB