Package: evaluomeR Version: 1.22.0 Command: rm -rf evaluomeR.buildbin-libdir && mkdir evaluomeR.buildbin-libdir && /Users/biocbuild/BBS/utils/build-universal.sh evaluomeR_1.22.0.tar.gz /Library/Frameworks/R.framework/Resources/bin/R evaluomeR.buildbin-libdir StartedAt: 2025-01-29 14:36:20 -0500 (Wed, 29 Jan 2025) EndedAt: 2025-01-29 14:36:58 -0500 (Wed, 29 Jan 2025) EllapsedTime: 38.4 seconds RetCode: 0 Status: OK PackageFile: evaluomeR_1.22.0.tgz PackageFileSize: 776.2 KiB