Package: escheR Version: 1.6.0 Command: /home/biocbuild/R/R/bin/R CMD build --keep-empty-dirs --no-resave-data escheR StartedAt: 2025-01-28 00:14:52 -0000 (Tue, 28 Jan 2025) EndedAt: 2025-01-28 00:17:38 -0000 (Tue, 28 Jan 2025) EllapsedTime: 166.1 seconds RetCode: 0 Status: OK PackageFile: escheR_1.6.0.tar.gz PackageFileSize: 1.359 MiB