Package: escheR Version: 1.6.0 Command: F:\biocbuild\bbs-3.20-bioc\R\bin\R.exe CMD check --no-multiarch --install=check:escheR.install-out.txt --library=F:\biocbuild\bbs-3.20-bioc\R\library --no-vignettes --timings escheR_1.6.0.tar.gz StartedAt: 2025-01-28 01:25:10 -0500 (Tue, 28 Jan 2025) EndedAt: 2025-01-28 01:29:23 -0500 (Tue, 28 Jan 2025) EllapsedTime: 253.3 seconds RetCode: 0 Status: OK CheckDir: escheR.Rcheck Warnings: 0