Package: escheR Version: 1.6.0 Command: chmod a+r escheR -R && F:\biocbuild\bbs-3.20-bioc\R\bin\R.exe CMD build --keep-empty-dirs --no-resave-data escheR StartedAt: 2025-01-27 18:47:41 -0500 (Mon, 27 Jan 2025) EndedAt: 2025-01-27 19:02:48 -0500 (Mon, 27 Jan 2025) EllapsedTime: 906.7 seconds RetCode: 0 Status: OK PackageFile: escheR_1.6.0.tar.gz PackageFileSize: 914.7 KiB