Package: escape Version: 2.2.1 Command: /Library/Frameworks/R.framework/Resources/bin/R CMD check --install=check:escape.install-out.txt --library=/Library/Frameworks/R.framework/Resources/library --no-vignettes --timings escape_2.2.1.tar.gz StartedAt: 2024-11-19 21:53:57 -0500 (Tue, 19 Nov 2024) EndedAt: 2024-11-19 22:04:33 -0500 (Tue, 19 Nov 2024) EllapsedTime: 636.4 seconds RetCode: 0 Status: OK CheckDir: escape.Rcheck Warnings: 0