Package: escape Version: 2.2.1 Command: /home/biocbuild/R/R/bin/R CMD INSTALL escape StartedAt: 2024-11-19 21:23:21 -0000 (Tue, 19 Nov 2024) EndedAt: 2024-11-19 21:24:22 -0000 (Tue, 19 Nov 2024) EllapsedTime: 61.1 seconds RetCode: 0 Status: OK