Package: escape Version: 2.2.3 Command: /Library/Frameworks/R.framework/Resources/bin/R CMD build --keep-empty-dirs --no-resave-data escape StartedAt: 2025-01-27 23:26:44 -0500 (Mon, 27 Jan 2025) EndedAt: 2025-01-27 23:28:21 -0500 (Mon, 27 Jan 2025) EllapsedTime: 96.9 seconds RetCode: 0 Status: OK PackageFile: escape_2.2.3.tar.gz PackageFileSize: 4.002 MiB