Package: escape Version: 2.2.3 Command: rm -rf escape.buildbin-libdir && mkdir escape.buildbin-libdir && /Users/biocbuild/BBS/utils/build-universal.sh escape_2.2.3.tar.gz /Library/Frameworks/R.framework/Resources/bin/R escape.buildbin-libdir StartedAt: 2025-01-29 14:35:24 -0500 (Wed, 29 Jan 2025) EndedAt: 2025-01-29 14:36:20 -0500 (Wed, 29 Jan 2025) EllapsedTime: 55.7 seconds RetCode: 0 Status: OK PackageFile: escape_2.2.3.tgz PackageFileSize: 1.756 MiB