Package: esATAC Version: 1.28.0 Command: rm -rf esATAC.buildbin-libdir && mkdir esATAC.buildbin-libdir && F:\biocbuild\bbs-3.20-bioc\R\bin\R.exe CMD INSTALL --build --library=esATAC.buildbin-libdir esATAC_1.28.0.tar.gz StartedAt: 2025-01-28 08:07:26 -0500 (Tue, 28 Jan 2025) EndedAt: 2025-01-28 08:09:49 -0500 (Tue, 28 Jan 2025) EllapsedTime: 143.3 seconds RetCode: 0 Status: OK PackageFile: esATAC_1.28.0.zip PackageFileSize: 8.526 MiB