Package: esATAC Version: 1.28.0 Command: /home/biocbuild/bbs-3.20-bioc/R/bin/R CMD INSTALL esATAC StartedAt: 2025-01-27 16:37:29 -0500 (Mon, 27 Jan 2025) EndedAt: 2025-01-27 16:39:12 -0500 (Mon, 27 Jan 2025) EllapsedTime: 102.7 seconds RetCode: 0 Status: OK