Package: erma Version: 1.22.0 Command: /home/biocbuild/R/R/bin/R CMD INSTALL erma StartedAt: 2025-02-03 20:54:24 -0000 (Mon, 03 Feb 2025) EndedAt: 2025-02-03 20:55:23 -0000 (Mon, 03 Feb 2025) EllapsedTime: 59.8 seconds RetCode: 0 Status: OK