Package: erma Version: 1.22.0 Command: /home/biocbuild/R/R/bin/R CMD check --install=check:erma.install-out.txt --library=/home/biocbuild/R/R/site-library --no-vignettes --timings erma_1.22.0.tar.gz StartedAt: 2025-02-04 06:51:13 -0000 (Tue, 04 Feb 2025) EndedAt: 2025-02-04 06:58:36 -0000 (Tue, 04 Feb 2025) EllapsedTime: 442.8 seconds RetCode: 0 Status: OK CheckDir: erma.Rcheck Warnings: 0