Package: erma Version: 1.22.0 Command: /home/biocbuild/R/R/bin/R CMD build --keep-empty-dirs --no-resave-data erma StartedAt: 2025-01-28 00:14:17 -0000 (Tue, 28 Jan 2025) EndedAt: 2025-01-28 00:16:13 -0000 (Tue, 28 Jan 2025) EllapsedTime: 116.1 seconds RetCode: 0 Status: OK PackageFile: erma_1.22.0.tar.gz PackageFileSize: 197.8 MiB