Package: erma Version: 1.22.0 Command: /home/biocbuild/bbs-3.20-bioc/R/bin/R CMD check --install=check:erma.install-out.txt --library=/home/biocbuild/bbs-3.20-bioc/R/site-library --timings erma_1.22.0.tar.gz StartedAt: 2025-01-27 22:58:31 -0500 (Mon, 27 Jan 2025) EndedAt: 2025-01-27 23:05:12 -0500 (Mon, 27 Jan 2025) EllapsedTime: 400.4 seconds RetCode: 0 Status: OK CheckDir: erma.Rcheck Warnings: 0