Package: erma Version: 1.22.0 Command: rm -rf erma.buildbin-libdir && mkdir erma.buildbin-libdir && /Users/biocbuild/BBS/utils/build-universal.sh erma_1.22.0.tar.gz /Library/Frameworks/R.framework/Resources/bin/R erma.buildbin-libdir StartedAt: 2025-01-28 13:06:31 -0500 (Tue, 28 Jan 2025) EndedAt: 2025-01-28 13:09:24 -0500 (Tue, 28 Jan 2025) EllapsedTime: 172.8 seconds RetCode: 0 Status: OK PackageFile: erma_1.22.0.tgz PackageFileSize: 198.5 MiB